BEGIN:VCALENDAR
VERSION:2.0
PRODID:-//Kalender//
BEGIN:VEVENT
SUMMARY:Beweglicher Ferientag
DTSTART:20260927T220000Z
DTSTAMP:20260423T175306Z
UID:event_ical_kalender_3685
DESCRIPTION:Beweglicher Ferientag
END:VEVENT
END:VCALENDAR
