BEGIN:VCALENDAR
VERSION:2.0
PRODID:-//Kalender//
BEGIN:VEVENT
SUMMARY:Sekretariat geschlossen
DTSTART:20260503T220000Z
DTSTAMP:20260420T125653Z
UID:event_ical_kalender_3684
DESCRIPTION:Das Sekretariat bleibt aufgrund des beweglichen Ferientages ge
 schlossen.
END:VEVENT
END:VCALENDAR
