BEGIN:VCALENDAR
VERSION:2.0
PRODID:-//Kalender//
BEGIN:VEVENT
SUMMARY:Otto-von-Guericke-Zentrum Klasse 7d
DTSTART:20260617T080000Z
DTSTAMP:20260420T020647Z
UID:event_ical_kalender_3674
DESCRIPTION:Otto-von-Guericke-Zentrum Klasse 7d
END:VEVENT
END:VCALENDAR
