BEGIN:VCALENDAR
VERSION:2.0
PRODID:-//Kalender//
BEGIN:VEVENT
SUMMARY:Otto-von-Guericke-Zentrum Klasse 7b
DTSTART:20260618T080000Z
DTSTAMP:20260420T020821Z
UID:event_ical_kalender_3672
DESCRIPTION:Otto-von-Guericke-Zentrum Klasse 7b
END:VEVENT
END:VCALENDAR
