BEGIN:VCALENDAR
VERSION:2.0
PRODID:-//Kalender//
BEGIN:VEVENT
SUMMARY:Otto-von-Guericke-Zentrum Klasse 7a
DTSTART:20260622T080000Z
DTSTAMP:20260420T020436Z
UID:event_ical_kalender_3671
DESCRIPTION:Otto-von-Guericke-Zentrum Klasse 7a
END:VEVENT
END:VCALENDAR
