BEGIN:VCALENDAR
VERSION:2.0
PRODID:-//Kalender//
BEGIN:VEVENT
SUMMARY:Tag der offenen Tür
DTSTART:20260926T080000Z
DTEND:20260926T113000Z
DTSTAMP:20260423T175559Z
UID:event_ical_kalender_3654
DESCRIPTION:Tag der offenen Tür im Domgymnasium
LOCATION:Domgymnasium Magdeburg
END:VEVENT
END:VCALENDAR
