BEGIN:VCALENDAR
VERSION:2.0
PRODID:-//Kalender//
BEGIN:VEVENT
SUMMARY:Schuljahreseröffnungsgottesdienst
DTSTART:20260817T140000Z
DTSTAMP:20260426T041218Z
UID:event_ical_kalender_3593
DESCRIPTION:Schuljahreseröffnungsgottesdienst
LOCATION:Dom
END:VEVENT
END:VCALENDAR
