BEGIN:VCALENDAR
VERSION:2.0
PRODID:-//Kalender//
BEGIN:VEVENT
SUMMARY:Jahrgangsstufenandacht 5/6
DTSTART:20251008T060000Z
DTSTAMP:20260419T131415Z
UID:event_ical_kalender_3589
DESCRIPTION:Jahrgangsstufenandacht 5/6
LOCATION:St. Sebastian
END:VEVENT
END:VCALENDAR
