BEGIN:VCALENDAR
VERSION:2.0
PRODID:-//Kalender//
BEGIN:VEVENT
SUMMARY:Biologieprojekt der Diakonie Klasse 8b
DTSTART:20260618T070000Z
DTEND:20260618T100000Z
DTSTAMP:20260420T103323Z
UID:event_ical_kalender_3585
DESCRIPTION:Biologieprojekt der Diakonie Klasse 8b
END:VEVENT
END:VCALENDAR
