BEGIN:VCALENDAR
VERSION:2.0
PRODID:-//Kalender//
BEGIN:VEVENT
SUMMARY:Elterninformationsabend für Musikfreizeit
DTSTART:20241113T170000Z
DTSTAMP:20260421T115948Z
UID:event_ical_kalender_3411
DESCRIPTION:Elterninformationsabend für Eltern\, deren Kinder vom 18.11.-
 21.11.2024 zur Musikfreizeit fahren.
LOCATION:Aula
END:VEVENT
END:VCALENDAR
