BEGIN:VCALENDAR
VERSION:2.0
PRODID:-//Kalender//
BEGIN:VEVENT
SUMMARY:Vorlesewettbewerb JgSt 6
DTSTART:20241127T085000Z
DTEND:20241127T102000Z
DTSTAMP:20260421T121922Z
UID:event_ical_kalender_3408
DESCRIPTION:Vorlesewettbewerb JgSt 6
LOCATION:Aula
END:VEVENT
END:VCALENDAR
