BEGIN:VCALENDAR
VERSION:2.0
PRODID:-//Kalender//
BEGIN:VEVENT
SUMMARY:Aktiv gegen Krebs JgSt 7
DTSTART:20241109T090000Z
DTEND:20241109T120000Z
DTSTAMP:20260421T122111Z
UID:event_ical_kalender_3394
DESCRIPTION:Aktiv gegen Krebs JgSt 7
LOCATION:Johanniskirche
END:VEVENT
END:VCALENDAR
