BEGIN:VCALENDAR
VERSION:2.0
PRODID:-//Kalender//
BEGIN:VEVENT
SUMMARY:Oper "Das Tagebuch der Anne Frank" JgSt 9
DTSTART:20241114T085000Z
DTSTAMP:20260421T120830Z
UID:event_ical_kalender_3375
DESCRIPTION:Oper "Das Tagebuch der Anne Frank" JgSt 9
LOCATION:Aula
END:VEVENT
END:VCALENDAR
