BEGIN:VCALENDAR
VERSION:2.0
PRODID:-//Kalender//
BEGIN:VEVENT
SUMMARY:Klassenkonferenz JgSt 8
DTSTART:20241105T140000Z
DTSTAMP:20260421T120454Z
UID:event_ical_kalender_3325
DESCRIPTION:Klassenkonferenz JgSt 8 15 Uhr Klasse 8a 16 Uhr Klasse 8b 17 U
 hr Klasse 8c 18 Uhr Klasse 8d
LOCATION:B204.1
END:VEVENT
END:VCALENDAR
