BEGIN:VCALENDAR
VERSION:2.0
PRODID:-//Kalender//
BEGIN:VEVENT
SUMMARY:Erprobungsstufenkonferenz JgSt 5
DTSTART:20241107T140000Z
DTSTAMP:20260421T122118Z
UID:event_ical_kalender_3316
DESCRIPTION:Erprobungsstufenkonferenz JgSt 5 15 Uhr Klasse 5a 16 Uhr Klass
 e 5b 17 Uhr Klasse 5c 18 Uhr Klasse 5d
LOCATION:B204.1
END:VEVENT
END:VCALENDAR
