BEGIN:VCALENDAR
VERSION:2.0
PRODID:-//Kalender//
BEGIN:VEVENT
SUMMARY:Moodle-Tag
DTSTART:20241120T230000Z
DTSTAMP:20260421T121821Z
UID:event_ical_kalender_3298
DESCRIPTION:Moodle-Tag Kein Unterricht in der Schule\, sondern digital von
  Zuhause. Weitere Informationen folgen.
END:VEVENT
END:VCALENDAR
