BEGIN:VCALENDAR
VERSION:2.0
PRODID:-//Kalender//
BEGIN:VEVENT
SUMMARY:NIM Sommer und Winter - Training in Turnhalle
DTSTART:20241114T140000Z
DTSTAMP:20260421T121938Z
UID:event_ical_kalender_3267
DESCRIPTION:NIM Sommer und Winter - Joggen
LOCATION:Turnhalle
END:VEVENT
END:VCALENDAR
