BEGIN:VCALENDAR
VERSION:2.0
PRODID:-//Kalender//
BEGIN:VEVENT
SUMMARY:Rom JgSt 9
DTSTART:20250116T230000Z
DTEND:20250121T230000Z
DTSTAMP:20260421T084832Z
UID:event_ical_kalender_3207
DESCRIPTION:Fahrt nach Rom JgSt 9
END:VEVENT
END:VCALENDAR
