BEGIN:VCALENDAR
VERSION:2.0
PRODID:-//Kalender//
BEGIN:VEVENT
SUMMARY:Diercke Geo-Wettbewerb JgSt 7-10
DTSTART:20240308T103000Z
DTSTAMP:20260420T114221Z
UID:event_ical_kalender_3162
DESCRIPTION:Diercke Geo-Wettbewerb JgSt 7-10
LOCATION:Aula
END:VEVENT
END:VCALENDAR
