BEGIN:VCALENDAR
VERSION:2.0
PRODID:-//Kalender//
BEGIN:VEVENT
SUMMARY:Schülermediatorenausbildung Modul 4
DTSTART:20240123T074500Z
DTEND:20240123T130000Z
DTSTAMP:20260421T120020Z
UID:event_ical_kalender_3137
DESCRIPTION:Schülermediatorenausbildung Modul 4
LOCATION:B306
END:VEVENT
END:VCALENDAR
