BEGIN:VCALENDAR
VERSION:2.0
PRODID:-//Kalender//
BEGIN:VEVENT
SUMMARY:Zillisheimaustausch JgSt 9
DTSTART:20240308T230000Z
DTEND:20240314T230000Z
DTSTAMP:20260420T130850Z
UID:event_ical_kalender_3135
DESCRIPTION:Zillisheimaustausch JgSt 9 Die Schüler fahren nach Zillisheim
 .
LOCATION:Zillisheim
END:VEVENT
END:VCALENDAR
