BEGIN:VCALENDAR
VERSION:2.0
PRODID:-//Kalender//
BEGIN:VEVENT
SUMMARY:Fahrt nach Granada JgSt 11
DTSTART:20240315T230000Z
DTEND:20240321T230000Z
DTSTAMP:20260420T113242Z
UID:event_ical_kalender_3132
DESCRIPTION:Granada JgSt 11
END:VEVENT
END:VCALENDAR
