BEGIN:VCALENDAR
VERSION:2.0
PRODID:-//Kalender//
BEGIN:VEVENT
SUMMARY:Fachkonferenz Sport - VERLEGT - 
DTSTART:20240222T150000Z
DTSTAMP:20260421T090133Z
UID:event_ical_kalender_3127
DESCRIPTION:Fachkonferenz Sport - VERLEGT - neuer Termin wird echtzeitig b
 ekannt gegeben
LOCATION:C203 (Bio2)
END:VEVENT
END:VCALENDAR
