BEGIN:VCALENDAR
VERSION:2.0
PRODID:-//Kalender//
BEGIN:VEVENT
SUMMARY:Fachkonferenz Kunst 
DTSTART:20240227T150000Z
DTSTAMP:20260421T085959Z
UID:event_ical_kalender_3122
DESCRIPTION:Fachkonferenz Kunst ACHTUNG:  Verlegt vom 20.02.24 auf den 27
 .02.2024!!!
LOCATION:Kunst2
END:VEVENT
END:VCALENDAR
