BEGIN:VCALENDAR
VERSION:2.0
PRODID:-//Kalender//
BEGIN:VEVENT
SUMMARY:Fachkonferenz Französisch
DTSTART:20240118T150000Z
DTSTAMP:20260421T115634Z
UID:event_ical_kalender_3118
DESCRIPTION:Fachkonferenz Französisch
LOCATION:B106
END:VEVENT
END:VCALENDAR
