BEGIN:VCALENDAR
VERSION:2.0
PRODID:-//Kalender//
BEGIN:VEVENT
SUMMARY:Fachkonferenz Spanisch
DTSTART:20240117T150000Z
DTSTAMP:20260421T115948Z
UID:event_ical_kalender_3117
DESCRIPTION:Fachkonferenz Spanisch
LOCATION:B307
END:VEVENT
END:VCALENDAR
