BEGIN:VCALENDAR
VERSION:2.0
PRODID:-//Kalender//
BEGIN:VEVENT
SUMMARY:Fachkonferenz Englisch
DTSTART:20240111T153000Z
DTSTAMP:20260421T120122Z
UID:event_ical_kalender_3116
DESCRIPTION:Fachkonferenz Englisch
LOCATION:B208
END:VEVENT
END:VCALENDAR
