BEGIN:VCALENDAR
VERSION:2.0
PRODID:-//Kalender//
BEGIN:VEVENT
SUMMARY:Stufenelternratsabend JgSt 5 + 6
DTSTART:20240123T170000Z
DTSTAMP:20260421T120020Z
UID:event_ical_kalender_3113
DESCRIPTION:Stufenelternratsabend JgSt 5 + 6
LOCATION:B208
END:VEVENT
END:VCALENDAR
