BEGIN:VCALENDAR
VERSION:2.0
PRODID:-//Kalender//
BEGIN:VEVENT
SUMMARY:Stufenelternratsabend JgSt 10-12
DTSTART:20240117T170000Z
DTSTAMP:20260421T115813Z
UID:event_ical_kalender_3112
DESCRIPTION:Stufenelternratsabend JgSt 10-12
LOCATION:B208
END:VEVENT
END:VCALENDAR
