BEGIN:VCALENDAR
VERSION:2.0
PRODID:-//Kalender//
BEGIN:VEVENT
SUMMARY:Zierfischbörse
DTSTART:20240121T080000Z
DTEND:20240121T110000Z
DTSTAMP:20260421T115634Z
UID:event_ical_kalender_3107
DESCRIPTION:Zierfischbörse
LOCATION:Turnhalle des Domgymnasiums
END:VEVENT
END:VCALENDAR
