BEGIN:VCALENDAR
VERSION:2.0
PRODID:-//Kalender//
BEGIN:VEVENT
SUMMARY:Fototermin JgSt 5-11
DTSTART:20240429T220000Z
DTSTAMP:20260420T083452Z
UID:event_ical_kalender_3105
DESCRIPTION:Fototermin JgSt 5-11  (Tag 3) Die Einteilung der Klassen erfo
 lgt durch vorherige Bekanntgabe.
END:VEVENT
END:VCALENDAR
