BEGIN:VCALENDAR
VERSION:2.0
PRODID:-//Kalender//
BEGIN:VEVENT
SUMMARY:Klassenkonferenz JgSt 11
DTSTART:20240313T140000Z
DTSTAMP:20260420T114839Z
UID:event_ical_kalender_3099
DESCRIPTION:Klassenkonferenz JgSt 11
LOCATION:B208
END:VEVENT
END:VCALENDAR
