BEGIN:VCALENDAR
VERSION:2.0
PRODID:-//Kalender//
BEGIN:VEVENT
SUMMARY:Romfahrt JgSt 9
DTSTART:20240126T230000Z
DTEND:20240131T230000Z
DTSTAMP:20260421T115455Z
UID:event_ical_kalender_3075
DESCRIPTION:Romfahrt JgSt 9
END:VEVENT
END:VCALENDAR
