BEGIN:VCALENDAR
VERSION:2.0
PRODID:-//Kalender//
BEGIN:VEVENT
SUMMARY:Klassenkonferenz JgSt 9
DTSTART:20240304T140000Z
DTSTAMP:20260420T113103Z
UID:event_ical_kalender_3012
DESCRIPTION:Klassenkonferenz JgSt 9 15:00 Uhr Klasse 9a 15:45 Uhr Klasse 9
 c 16:30 Uhr Klasse 9d 17:15 Uhr Klasse 9b
LOCATION:B204.2
END:VEVENT
END:VCALENDAR
