BEGIN:VCALENDAR
VERSION:2.0
PRODID:-//Kalender//
BEGIN:VEVENT
SUMMARY:Zentrale Klassenarbeit Englisch JgSt 6
DTSTART:20230524T220000Z
DTSTAMP:20260426T033843Z
UID:event_ical_kalender_2915
DESCRIPTION:Zentrale Klassenarbeit JgSt 6
END:VEVENT
END:VCALENDAR
