BEGIN:VCALENDAR
VERSION:2.0
PRODID:-//Kalender//
BEGIN:VEVENT
SUMMARY:Arbeitsgruppe LRS
DTSTART:20230126T170000Z
DTSTAMP:20260421T103546Z
UID:event_ical_kalender_2894
DESCRIPTION:Arbeitsgruppe LRS
LOCATION:B208
END:VEVENT
END:VCALENDAR
