BEGIN:VCALENDAR
VERSION:2.0
PRODID:-//Kalender//
BEGIN:VEVENT
SUMMARY:Mathematik-Olympiade JgSt 5 - 8 und 11
DTSTART:20221109T070000Z
DTSTAMP:20260423T203652Z
UID:event_ical_kalender_2876
DESCRIPTION:Mathematik-Olympiade JgSt 5 - 8 und 11
END:VEVENT
END:VCALENDAR
