BEGIN:VCALENDAR
VERSION:2.0
PRODID:-//Kalender//
BEGIN:VEVENT
SUMMARY:Fachkonferenz Musik
DTSTART:20230308T150000Z
DTSTAMP:20260421T100717Z
UID:event_ical_kalender_2865
DESCRIPTION:Fachkonferenz Musik
LOCATION:B301 (Musik 1)
END:VEVENT
END:VCALENDAR
