BEGIN:VCALENDAR
VERSION:2.0
PRODID:-//Kalender//
BEGIN:VEVENT
SUMMARY:Fachkonferenz Englisch
DTSTART:20230126T150000Z
DTSTAMP:20260421T171726Z
UID:event_ical_kalender_2859
DESCRIPTION:Fachkonferenz Englisch
LOCATION:B208
END:VEVENT
END:VCALENDAR
