BEGIN:VCALENDAR
VERSION:2.0
PRODID:-//Kalender//
BEGIN:VEVENT
SUMMARY:Physikolympiade JgSt 8 - 10
DTSTART:20221006T060000Z
DTSTAMP:20260423T194047Z
UID:event_ical_kalender_2816
DESCRIPTION:Physikolympiade JgSt 8 - 10
END:VEVENT
END:VCALENDAR
