BEGIN:VCALENDAR
VERSION:2.0
PRODID:-//Kalender//
BEGIN:VEVENT
SUMMARY:Elbe-Brücken-Lauf
DTSTART:20230506T220000Z
DTSTAMP:20260426T033548Z
UID:event_ical_kalender_2791
DESCRIPTION:Elbe-Brücken-Lauf
LOCATION:Magdeburg
END:VEVENT
END:VCALENDAR
