BEGIN:VCALENDAR
VERSION:2.0
PRODID:-//Kalender//
BEGIN:VEVENT
SUMMARY:schrftl. Abitur Physik
DTSTART:20230503T220000Z
DTSTAMP:20260426T033659Z
UID:event_ical_kalender_2789
DESCRIPTION:schrftl. Abitur Physik
END:VEVENT
END:VCALENDAR
