BEGIN:VCALENDAR
VERSION:2.0
PRODID:-//Kalender//
BEGIN:VEVENT
SUMMARY:Fachkonferenz Geographie
DTSTART:20210920T140000Z
DTSTAMP:20260421T103445Z
UID:event_ical_kalender_2554
DESCRIPTION:Fachkonferenz Geographie
LOCATION:D202
END:VEVENT
END:VCALENDAR
