BEGIN:VCALENDAR
VERSION:2.0
PRODID:-//Kalender//
BEGIN:VEVENT
SUMMARY:Klassenfahrt JgSt 5
DTSTART:20210926T220000Z
DTEND:20210930T220000Z
DTSTAMP:20260421T084714Z
UID:event_ical_kalender_2439
DESCRIPTION:Klassenfahrt JgSt 5 nach Wittenberg
LOCATION:Lutherstadt Wittenberg
END:VEVENT
END:VCALENDAR
