BEGIN:VCALENDAR
VERSION:2.0
PRODID:-//Kalender//
BEGIN:VEVENT
SUMMARY:DROBS Veranstaltung Klasse 10a
DTSTART:20201002T063000Z
DTEND:20201002T093000Z
DTSTAMP:20260424T235221Z
UID:event_ical_kalender_2267
DESCRIPTION:DROBS Veranstaltung Klasse 10a
LOCATION:B208
END:VEVENT
END:VCALENDAR
