BEGIN:VCALENDAR
VERSION:2.0
PRODID:-//Kalender//
BEGIN:VEVENT
SUMMARY:Stufenelternratssitzung JgSt 5-6
DTSTART:20200123T170000Z
DTSTAMP:20260419T155025Z
UID:event_ical_kalender_2122
DESCRIPTION:Stufenelternratssitzung JgSt 5-6
LOCATION:B208
END:VEVENT
END:VCALENDAR
