BEGIN:VCALENDAR
VERSION:2.0
PRODID:-//Kalender//
BEGIN:VEVENT
SUMMARY:Zeugniskonferenz JgSt 5 - 10
DTSTART:20200130T140000Z
DTSTAMP:20260419T173714Z
UID:event_ical_kalender_2044
DESCRIPTION:Zeugniskonferenz JgSt 5 - 10
LOCATION:Aula
END:VEVENT
END:VCALENDAR
