BEGIN:VCALENDAR
VERSION:2.0
PRODID:-//Kalender//
BEGIN:VEVENT
SUMMARY:Dienstberatung
DTSTART:20191205T140000Z
DTSTAMP:20260420T030509Z
UID:event_ical_kalender_2036
DESCRIPTION:Dienstberatung - gesamtes Kollegium
LOCATION:Aula
END:VEVENT
END:VCALENDAR
